BEGIN:VCALENDAR
VERSION:2.0
PRODID:-//Catalyst Ranch - ECPv6.15.17.1//NONSGML v1.0//EN
CALSCALE:GREGORIAN
METHOD:PUBLISH
X-ORIGINAL-URL:https://catalystranch.com
X-WR-CALDESC:Events for Catalyst Ranch
REFRESH-INTERVAL;VALUE=DURATION:PT1H
X-Robots-Tag:noindex
X-PUBLISHED-TTL:PT1H
BEGIN:VTIMEZONE
TZID:UTC
BEGIN:STANDARD
TZOFFSETFROM:+0000
TZOFFSETTO:+0000
TZNAME:UTC
DTSTART:20150101T000000
END:STANDARD
END:VTIMEZONE
BEGIN:VEVENT
DTSTART;TZID=UTC:20170323T183000
DTEND;TZID=UTC:20170323T200000
DTSTAMP:20260424T225358
CREATED:20170317T204844Z
LAST-MODIFIED:20170320T234756Z
UID:13586-1490293800-1490299200@catalystranch.com
SUMMARY:WLCO Presents "it's all about impact"
DESCRIPTION:
URL:https://catalystranch.com/event/wlco-presents-impact/
LOCATION:Catalyst Ranch\,  656 W Randolph St\, Chicago\, IL\, 60661\, United States
CATEGORIES:Networking,Workshop
ATTACH;FMTTYPE=image/jpeg:https://catalystranch.com/wp-content/uploads/2017/03/Stories-of-Impact-West-Loop-Night-March-2017.jpg
END:VEVENT
BEGIN:VEVENT
DTSTART;TZID=UTC:20170218T100000
DTEND;TZID=UTC:20170218T130000
DTSTAMP:20260424T225358
CREATED:20170201T235907Z
LAST-MODIFIED:20170201T235939Z
UID:13453-1487412000-1487422800@catalystranch.com
SUMMARY:Coffee & Conversation
DESCRIPTION:Join C&C in February as we link up at Catalyst Ranch\, an amazing event space in Chicago\, to bring you another edition of community building over a cup of coffee! \nSaturday\, February 18\, 2017\nCatalyst Ranch\n656 W Randolph St\n10:00am-1:00pm (drop in any time)\nCoffee provided! \nCoffee & Conversation is a Chicago-based community of entrepreneurs and innovators who value collaboration and share ideas\, resources\, and inspiration. We can be anywhere along the start-up spectrum whether you just have ideas to share\, are about to start a business\, or already have your own company. Even if you don’t have your own business and just like sharing ideas\, there are takeaways and great connections for everyone. \nC&C holds free\, public gatherings monthly on Saturday mornings\, open to all! Attendees are welcome to work\, talk\, and socialize as much as they see fitting. Come connect over a cup of coffee and join a community of motivated people determined to hustle for their passions. \nTwitter: https://twitter.com/coffeeconvochi\nInsta: http://instagram.com/coffeeconvochi
URL:https://catalystranch.com/event/coffee-conversation/
LOCATION:Catalyst Ranch\,  656 W Randolph St\, Chicago\, IL\, 60661\, United States
CATEGORIES:Meetup,Networking
ATTACH;FMTTYPE=image/jpeg:https://catalystranch.com/wp-content/uploads/2017/02/IMG_0781.jpg
END:VEVENT
BEGIN:VEVENT
DTSTART;TZID=UTC:20170218T100000
DTEND;TZID=UTC:20170218T130000
DTSTAMP:20260424T225358
CREATED:20170201T235907Z
LAST-MODIFIED:20170201T235907Z
UID:14882-1487412000-1487422800@catalystranch.com
SUMMARY:Coffee & Conversation
DESCRIPTION:Join C&C in February as we link up at Catalyst Ranch\, an amazing event space in Chicago\, to bring you another edition of community building over a cup of coffee! \nSaturday\, February 18\, 2017\nCatalyst Ranch\n656 W Randolph St\n10:00am-1:00pm (drop in any time)\nCoffee provided! \nCoffee & Conversation is a Chicago-based community of entrepreneurs and innovators who value collaboration and share ideas\, resources\, and inspiration. We can be anywhere along the start-up spectrum whether you just have ideas to share\, are about to start a business\, or already have your own company. Even if you don’t have your own business and just like sharing ideas\, there are takeaways and great connections for everyone. \nC&C holds free\, public gatherings monthly on Saturday mornings\, open to all! Attendees are welcome to work\, talk\, and socialize as much as they see fitting. Come connect over a cup of coffee and join a community of motivated people determined to hustle for their passions. \nTwitter: https://twitter.com/coffeeconvochi\nInsta: http://instagram.com/coffeeconvochi
URL:https://catalystranch.com/event/coffee-conversation-2-2/
LOCATION:Catalyst Ranch\,  656 W Randolph St\, Chicago\, IL\, 60661\, United States
CATEGORIES:Meetup,Networking
ATTACH;FMTTYPE=image/jpeg:https://catalystranch.com/wp-content/uploads/2017/02/IMG_0781.jpg
END:VEVENT
BEGIN:VEVENT
DTSTART;TZID=UTC:20170218T100000
DTEND;TZID=UTC:20170218T130000
DTSTAMP:20260424T225358
CREATED:20170201T235907Z
LAST-MODIFIED:20170201T235907Z
UID:14927-1487412000-1487422800@catalystranch.com
SUMMARY:Coffee & Conversation
DESCRIPTION:Join C&C in February as we link up at Catalyst Ranch\, an amazing event space in Chicago\, to bring you another edition of community building over a cup of coffee! \nSaturday\, February 18\, 2017\nCatalyst Ranch\n656 W Randolph St\n10:00am-1:00pm (drop in any time)\nCoffee provided! \nCoffee & Conversation is a Chicago-based community of entrepreneurs and innovators who value collaboration and share ideas\, resources\, and inspiration. We can be anywhere along the start-up spectrum whether you just have ideas to share\, are about to start a business\, or already have your own company. Even if you don’t have your own business and just like sharing ideas\, there are takeaways and great connections for everyone. \nC&C holds free\, public gatherings monthly on Saturday mornings\, open to all! Attendees are welcome to work\, talk\, and socialize as much as they see fitting. Come connect over a cup of coffee and join a community of motivated people determined to hustle for their passions. \nTwitter: https://twitter.com/coffeeconvochi\nInsta: http://instagram.com/coffeeconvochi
URL:https://catalystranch.com/event/coffee-conversation-2-3/
LOCATION:Catalyst Ranch\,  656 W Randolph St\, Chicago\, IL\, 60661\, United States
CATEGORIES:Meetup,Networking
ATTACH;FMTTYPE=image/jpeg:https://catalystranch.com/wp-content/uploads/2017/02/IMG_0781.jpg
END:VEVENT
BEGIN:VEVENT
DTSTART;TZID=UTC:20161129T180000
DTEND;TZID=UTC:20161129T210000
DTSTAMP:20260424T225358
CREATED:20161024T231800Z
LAST-MODIFIED:20161109T220530Z
UID:13122-1480442400-1480453200@catalystranch.com
SUMMARY:Come Discover Ignite Chicago!
DESCRIPTION:Ignite is a high-energy evening of 5-minute talks by people who have a burning idea—and the guts to get onstage and share it with their hometown crowd. \nSpeaking at Ignite is an unforgettable experience. You step up to the mic. Your palms sweat. You can hear the thump of your blood rushing. Your voice cracks for an instant and then you launch into a rant for 300 straight seconds\, wearing your passion on your sleeve\, barely pausing to breathe. The crowd goes wild. \nIgnite Chicago is open to everyone. All talks are 5 minutes (20 slides x 15 seconds/slide). \n \nThere is no theme for Ignite. You can talk about virtually anything as long as you can show us your passion for it. What’s the thing you most geek out about? What’s the topic of conversation that quickens your pulse and sets your toe a-tappin’? That is what we want to hear you speak about. \nAll speakers get equal time and equal billing. All talks are 5 minutes. You create 20 slides\, and we set them up to auto-advance every 15 seconds. \nWant to speak? \nThe audience at Ignite is generous and patient. They know the Ignite format is difficult\, and they realize you might be an absolute beginner at public speaking. Don’t worry – they’ve got your back. You’re giving them your passion and your vulnerability\, and they love you for that. You won’t find a more appreciative audience at any other event. \n\n\nSome people think Ignite is about self-help talks. It isn’t. Nobody wants to hear a preachy pep talk. We’re already “good enough and smart enough\,” so let’s keep this about you and your passionate ideas. \nFinally\, we’re serious about the no pitching thing. We know that sometimes a speaker must mention their profession in order to give their talk context\, which is totally fine. But Ignite is not the place to tout your organization or to troll for clients. \n\n\nWhat would you say? \n \nClick the Ignite logo below for tickets!
URL:https://catalystranch.com/event/come-discover-ignite-chicago/
LOCATION:Catalyst Ranch\,  656 W Randolph St\, Chicago\, IL\, 60661\, United States
CATEGORIES:Experiential,Networking,Workshop
ATTACH;FMTTYPE=image/png:https://catalystranch.com/wp-content/uploads/2016/10/Ignite-Chicago-logo.png
END:VEVENT
BEGIN:VEVENT
DTSTART;TZID=UTC:20161129T180000
DTEND;TZID=UTC:20161129T210000
DTSTAMP:20260424T225358
CREATED:20161024T231800Z
LAST-MODIFIED:20161024T231800Z
UID:14873-1480442400-1480453200@catalystranch.com
SUMMARY:Come Discover Ignite Chicago!
DESCRIPTION:Ignite is a high-energy evening of 5-minute talks by people who have a burning idea—and the guts to get onstage and share it with their hometown crowd. \nSpeaking at Ignite is an unforgettable experience. You step up to the mic. Your palms sweat. You can hear the thump of your blood rushing. Your voice cracks for an instant and then you launch into a rant for 300 straight seconds\, wearing your passion on your sleeve\, barely pausing to breathe. The crowd goes wild. \nIgnite Chicago is open to everyone. All talks are 5 minutes (20 slides x 15 seconds/slide). \n \nThere is no theme for Ignite. You can talk about virtually anything as long as you can show us your passion for it. What’s the thing you most geek out about? What’s the topic of conversation that quickens your pulse and sets your toe a-tappin’? That is what we want to hear you speak about. \nAll speakers get equal time and equal billing. All talks are 5 minutes. You create 20 slides\, and we set them up to auto-advance every 15 seconds. \nWant to speak? \nThe audience at Ignite is generous and patient. They know the Ignite format is difficult\, and they realize you might be an absolute beginner at public speaking. Don’t worry – they’ve got your back. You’re giving them your passion and your vulnerability\, and they love you for that. You won’t find a more appreciative audience at any other event. \n\n\nSome people think Ignite is about self-help talks. It isn’t. Nobody wants to hear a preachy pep talk. We’re already “good enough and smart enough\,” so let’s keep this about you and your passionate ideas. \nFinally\, we’re serious about the no pitching thing. We know that sometimes a speaker must mention their profession in order to give their talk context\, which is totally fine. But Ignite is not the place to tout your organization or to troll for clients. \n\n\nWhat would you say? \n \nClick the Ignite logo below for tickets!
URL:https://catalystranch.com/event/come-discover-ignite-chicago-2/
LOCATION:Catalyst Ranch\,  656 W Randolph St\, Chicago\, IL\, 60661\, United States
CATEGORIES:Experiential,Networking,Workshop
ATTACH;FMTTYPE=image/png:https://catalystranch.com/wp-content/uploads/2016/10/Ignite-Chicago-logo.png
END:VEVENT
BEGIN:VEVENT
DTSTART;TZID=UTC:20161129T180000
DTEND;TZID=UTC:20161129T210000
DTSTAMP:20260424T225358
CREATED:20161024T231800Z
LAST-MODIFIED:20161024T231800Z
UID:14918-1480442400-1480453200@catalystranch.com
SUMMARY:Come Discover Ignite Chicago!
DESCRIPTION:Ignite is a high-energy evening of 5-minute talks by people who have a burning idea—and the guts to get onstage and share it with their hometown crowd. \nSpeaking at Ignite is an unforgettable experience. You step up to the mic. Your palms sweat. You can hear the thump of your blood rushing. Your voice cracks for an instant and then you launch into a rant for 300 straight seconds\, wearing your passion on your sleeve\, barely pausing to breathe. The crowd goes wild. \nIgnite Chicago is open to everyone. All talks are 5 minutes (20 slides x 15 seconds/slide). \n \nThere is no theme for Ignite. You can talk about virtually anything as long as you can show us your passion for it. What’s the thing you most geek out about? What’s the topic of conversation that quickens your pulse and sets your toe a-tappin’? That is what we want to hear you speak about. \nAll speakers get equal time and equal billing. All talks are 5 minutes. You create 20 slides\, and we set them up to auto-advance every 15 seconds. \nWant to speak? \nThe audience at Ignite is generous and patient. They know the Ignite format is difficult\, and they realize you might be an absolute beginner at public speaking. Don’t worry – they’ve got your back. You’re giving them your passion and your vulnerability\, and they love you for that. You won’t find a more appreciative audience at any other event. \n\n\nSome people think Ignite is about self-help talks. It isn’t. Nobody wants to hear a preachy pep talk. We’re already “good enough and smart enough\,” so let’s keep this about you and your passionate ideas. \nFinally\, we’re serious about the no pitching thing. We know that sometimes a speaker must mention their profession in order to give their talk context\, which is totally fine. But Ignite is not the place to tout your organization or to troll for clients. \n\n\nWhat would you say? \n \nClick the Ignite logo below for tickets!
URL:https://catalystranch.com/event/come-discover-ignite-chicago-3/
LOCATION:Catalyst Ranch\,  656 W Randolph St\, Chicago\, IL\, 60661\, United States
CATEGORIES:Experiential,Networking,Workshop
ATTACH;FMTTYPE=image/png:https://catalystranch.com/wp-content/uploads/2016/10/Ignite-Chicago-logo.png
END:VEVENT
BEGIN:VEVENT
DTSTART;TZID=UTC:20161114T180000
DTEND;TZID=UTC:20161114T213000
DTSTAMP:20260424T225358
CREATED:20161004T235332Z
LAST-MODIFIED:20161109T235742Z
UID:12973-1479146400-1479159000@catalystranch.com
SUMMARY:Catalyst Ranch Anniversary Party!
DESCRIPTION:It’s time for the Catalyst Ranch 14th Anniversary Party and you are invited! \n2016 is the Year of the Monkey in Chinese culture\, and we have been celebrating it all year by highlighting the Most Interesting People and events. This is the culmination of our year\, and we would love for you to come celebrate the Most Interesting Anniversary Party with the Most Interesting People in the Most Interesting Meeting & Events Space in the world! \nOther interesting reasons to attend: \n\nWe are so proud to introduce our new Business Development Manager Tehilla Newman along side her team mates\, Maggie Weiterman and Tatiana Green. Combined they are the best and most interesting sales team in the world.\nActor Jen Bosworth\, songwriter Matt Baron\, and Emmy-winner Ben Hollis will be here to help us recollect the old and ring in the new.\nThe food is being provided by the caterer with the most interesting name: Big Delicious Planet.\nYou love parties.\n\nNovember 14th is the date to celebrate fourteen years as the go-to venue for Chicago’s most creative meeting and events.  We wouldn’t  be in business without you\, and we certainly cannot celebrate without you either! \nJoin Eva\, Ranch Czarina\, Pogo\, the World’s Most Interesting Monkey\, our fantastic new Client Services and Business Development team\, and the rest of the Ranch Hands as we raise a toast to 14 great years. Believe me\, you don’t want to miss this most interesting affair! \n RSVP Here! \nDoors open at 6pm for a Welcome Reception with food and drinks.  Performances start at 7:15pm! \n 
URL:https://catalystranch.com/event/catalyst-ranch-anniversary-party/
LOCATION:Catalyst Ranch\,  656 W Randolph St\, Chicago\, IL\, 60661\, United States
CATEGORIES:Anniversary Party,Marketing,Networking
ATTACH;FMTTYPE=image/jpeg:https://catalystranch.com/wp-content/uploads/2016/10/Catalyst-Ranch-14th-Anniversary-2.jpg
END:VEVENT
BEGIN:VEVENT
DTSTART;TZID=UTC:20161114T180000
DTEND;TZID=UTC:20161114T213000
DTSTAMP:20260424T225358
CREATED:20161004T235332Z
LAST-MODIFIED:20161004T235332Z
UID:14867-1479146400-1479159000@catalystranch.com
SUMMARY:Catalyst Ranch Anniversary Party!
DESCRIPTION:It’s time for the Catalyst Ranch 14th Anniversary Party and you are invited! \n2016 is the Year of the Monkey in Chinese culture\, and we have been celebrating it all year by highlighting the Most Interesting People and events. This is the culmination of our year\, and we would love for you to come celebrate the Most Interesting Anniversary Party with the Most Interesting People in the Most Interesting Meeting & Events Space in the world! \nOther interesting reasons to attend: \n\nWe are so proud to introduce our new Business Development Manager Tehilla Newman along side her team mates\, Maggie Weiterman and Tatiana Green. Combined they are the best and most interesting sales team in the world.\nActor Jen Bosworth\, songwriter Matt Baron\, and Emmy-winner Ben Hollis will be here to help us recollect the old and ring in the new.\nThe food is being provided by the caterer with the most interesting name: Big Delicious Planet.\nYou love parties.\n\nNovember 14th is the date to celebrate fourteen years as the go-to venue for Chicago’s most creative meeting and events.  We wouldn’t  be in business without you\, and we certainly cannot celebrate without you either! \nJoin Eva\, Ranch Czarina\, Pogo\, the World’s Most Interesting Monkey\, our fantastic new Client Services and Business Development team\, and the rest of the Ranch Hands as we raise a toast to 14 great years. Believe me\, you don’t want to miss this most interesting affair! \n RSVP Here! \nDoors open at 6pm for a Welcome Reception with food and drinks.  Performances start at 7:15pm! \n 
URL:https://catalystranch.com/event/catalyst-ranch-anniversary-party-2/
LOCATION:Catalyst Ranch\,  656 W Randolph St\, Chicago\, IL\, 60661\, United States
CATEGORIES:Anniversary Party,Marketing,Networking
ATTACH;FMTTYPE=image/jpeg:https://catalystranch.com/wp-content/uploads/2016/10/Catalyst-Ranch-14th-Anniversary-2.jpg
END:VEVENT
BEGIN:VEVENT
DTSTART;TZID=UTC:20161114T180000
DTEND;TZID=UTC:20161114T213000
DTSTAMP:20260424T225358
CREATED:20161004T235332Z
LAST-MODIFIED:20161004T235332Z
UID:14907-1479146400-1479159000@catalystranch.com
SUMMARY:Catalyst Ranch Anniversary Party!
DESCRIPTION:It’s time for the Catalyst Ranch 14th Anniversary Party and you are invited! \n2016 is the Year of the Monkey in Chinese culture\, and we have been celebrating it all year by highlighting the Most Interesting People and events. This is the culmination of our year\, and we would love for you to come celebrate the Most Interesting Anniversary Party with the Most Interesting People in the Most Interesting Meeting & Events Space in the world! \nOther interesting reasons to attend: \n\nWe are so proud to introduce our new Business Development Manager Tehilla Newman along side her team mates\, Maggie Weiterman and Tatiana Green. Combined they are the best and most interesting sales team in the world.\nActor Jen Bosworth\, songwriter Matt Baron\, and Emmy-winner Ben Hollis will be here to help us recollect the old and ring in the new.\nThe food is being provided by the caterer with the most interesting name: Big Delicious Planet.\nYou love parties.\n\nNovember 14th is the date to celebrate fourteen years as the go-to venue for Chicago’s most creative meeting and events.  We wouldn’t  be in business without you\, and we certainly cannot celebrate without you either! \nJoin Eva\, Ranch Czarina\, Pogo\, the World’s Most Interesting Monkey\, our fantastic new Client Services and Business Development team\, and the rest of the Ranch Hands as we raise a toast to 14 great years. Believe me\, you don’t want to miss this most interesting affair! \n RSVP Here! \nDoors open at 6pm for a Welcome Reception with food and drinks.  Performances start at 7:15pm! \n 
URL:https://catalystranch.com/event/catalyst-ranch-anniversary-party-3/
LOCATION:Catalyst Ranch\,  656 W Randolph St\, Chicago\, IL\, 60661\, United States
CATEGORIES:Anniversary Party,Marketing,Networking
ATTACH;FMTTYPE=image/jpeg:https://catalystranch.com/wp-content/uploads/2016/10/Catalyst-Ranch-14th-Anniversary-2.jpg
END:VEVENT
BEGIN:VEVENT
DTSTART;TZID=UTC:20161020T080000
DTEND;TZID=UTC:20161020T170000
DTSTAMP:20260424T225358
CREATED:20161004T004349Z
LAST-MODIFIED:20161017T234052Z
UID:12963-1476950400-1476982800@catalystranch.com
SUMMARY:Mom + Baby Women Supporting Women Conference
DESCRIPTION:Mom + Baby 3rd Annual Women Supporting Women Conference\n\n\n\n\nFor the third year in a row\, the Mom + Baby organization is hosting its annual Women Supporting Women Conference and Reception on Thursday\, October 20\, 2016. The event was designed by women for women to make meaningful connections and get their voice heard. The conference includes a full day of hands-on workshops and conversations about the issues that matter to all women from personal life hacks to career advice including legislative issues impacting women\, education\, professional advice\, insurance tips\, budgeting\, and more. A networking reception and fundraiser will follow hosted by Jammin with Jane\, an annual fundraising event hosted by Columbia College Chicago’s Special Events and Promotions students\, will raise funds for Mom + Baby while the Jam celebrates its 25th anniversary benefitting non-profit organizations in the Chicagoland area. \n\n\n\n\nFor full details on speakers and times\, please click here: Conference Program\n\n\n\nMom + Baby was started by Columbia College Alum Alexandra Eidenberg shortly after she ran for Congress as a Democratic candidate for the 4th Congressional District of Illinois. Ms. Eidenberg is the president of The Insurance People\, an insurance practice that she co-founded in 2010. Ms. Eidenberg is the granddaughter of the Late Mirron “Mike” Alexandroff\, college president from 1961-1992. Ms. Eidenberg is proud to be a Columbia College alum and is appreciative to Jane Canepa and her students to host Jammin with Jane in partnership with Mom+ Baby this year as the Jam celebrates 25 years. \n\n\n\nOUR MISSION \n\nMom+Baby is focused on making a local and national impact on the well-being of pregnant women\, moms\, and kids through legislation and advocacy. We’re a group of working and stay at home moms who support one another to be their best. Our group encourages women with children ages 0 to 5 to create friendships and support each other through attending monthly in-person events and participating in our online community. \n  \nLEGISLATIVE EFFORTS\n\nMom+Baby sends women down to Springfield and DC to lobby on issues that we\, as a group\, support. We propose legislation\, back existing bills\, and lobby our representatives to make our voices heard. We also sponsor monthly coffee dates with our local legislators to get more women involved in the process. \n\nClick the logo below for tickets
URL:https://catalystranch.com/event/mombaby-women-supporting-women-conference/
LOCATION:Catalyst Ranch\,  656 W Randolph St\, Chicago\, IL\, 60661\, United States
CATEGORIES:Networking,Workshop
ATTACH;FMTTYPE=image/png:https://catalystranch.com/wp-content/uploads/2016/10/womensupportingwomen-logo.png
END:VEVENT
BEGIN:VEVENT
DTSTART;TZID=UTC:20161020T080000
DTEND;TZID=UTC:20161020T170000
DTSTAMP:20260424T225358
CREATED:20161004T004349Z
LAST-MODIFIED:20161004T004349Z
UID:14866-1476950400-1476982800@catalystranch.com
SUMMARY:Mom + Baby Women Supporting Women Conference
DESCRIPTION:Mom + Baby 3rd Annual Women Supporting Women Conference\n\n\n\n\nFor the third year in a row\, the Mom + Baby organization is hosting its annual Women Supporting Women Conference and Reception on Thursday\, October 20\, 2016. The event was designed by women for women to make meaningful connections and get their voice heard. The conference includes a full day of hands-on workshops and conversations about the issues that matter to all women from personal life hacks to career advice including legislative issues impacting women\, education\, professional advice\, insurance tips\, budgeting\, and more. A networking reception and fundraiser will follow hosted by Jammin with Jane\, an annual fundraising event hosted by Columbia College Chicago’s Special Events and Promotions students\, will raise funds for Mom + Baby while the Jam celebrates its 25th anniversary benefitting non-profit organizations in the Chicagoland area. \n\n\n\n\nFor full details on speakers and times\, please click here: Conference Program\n\n\n\nMom + Baby was started by Columbia College Alum Alexandra Eidenberg shortly after she ran for Congress as a Democratic candidate for the 4th Congressional District of Illinois. Ms. Eidenberg is the president of The Insurance People\, an insurance practice that she co-founded in 2010. Ms. Eidenberg is the granddaughter of the Late Mirron “Mike” Alexandroff\, college president from 1961-1992. Ms. Eidenberg is proud to be a Columbia College alum and is appreciative to Jane Canepa and her students to host Jammin with Jane in partnership with Mom+ Baby this year as the Jam celebrates 25 years. \n\n\n\nOUR MISSION \n\nMom+Baby is focused on making a local and national impact on the well-being of pregnant women\, moms\, and kids through legislation and advocacy. We’re a group of working and stay at home moms who support one another to be their best. Our group encourages women with children ages 0 to 5 to create friendships and support each other through attending monthly in-person events and participating in our online community. \n  \nLEGISLATIVE EFFORTS\n\nMom+Baby sends women down to Springfield and DC to lobby on issues that we\, as a group\, support. We propose legislation\, back existing bills\, and lobby our representatives to make our voices heard. We also sponsor monthly coffee dates with our local legislators to get more women involved in the process. \n\nClick the logo below for tickets
URL:https://catalystranch.com/event/mombaby-women-supporting-women-conference-2/
LOCATION:Catalyst Ranch\,  656 W Randolph St\, Chicago\, IL\, 60661\, United States
CATEGORIES:Networking,Workshop
ATTACH;FMTTYPE=image/png:https://catalystranch.com/wp-content/uploads/2016/10/womensupportingwomen-logo.png
END:VEVENT
BEGIN:VEVENT
DTSTART;TZID=UTC:20161020T080000
DTEND;TZID=UTC:20161020T170000
DTSTAMP:20260424T225358
CREATED:20161004T004349Z
LAST-MODIFIED:20161004T004349Z
UID:14906-1476950400-1476982800@catalystranch.com
SUMMARY:Mom + Baby Women Supporting Women Conference
DESCRIPTION:Mom + Baby 3rd Annual Women Supporting Women Conference\n\n\n\n\nFor the third year in a row\, the Mom + Baby organization is hosting its annual Women Supporting Women Conference and Reception on Thursday\, October 20\, 2016. The event was designed by women for women to make meaningful connections and get their voice heard. The conference includes a full day of hands-on workshops and conversations about the issues that matter to all women from personal life hacks to career advice including legislative issues impacting women\, education\, professional advice\, insurance tips\, budgeting\, and more. A networking reception and fundraiser will follow hosted by Jammin with Jane\, an annual fundraising event hosted by Columbia College Chicago’s Special Events and Promotions students\, will raise funds for Mom + Baby while the Jam celebrates its 25th anniversary benefitting non-profit organizations in the Chicagoland area. \n\n\n\n\nFor full details on speakers and times\, please click here: Conference Program\n\n\n\nMom + Baby was started by Columbia College Alum Alexandra Eidenberg shortly after she ran for Congress as a Democratic candidate for the 4th Congressional District of Illinois. Ms. Eidenberg is the president of The Insurance People\, an insurance practice that she co-founded in 2010. Ms. Eidenberg is the granddaughter of the Late Mirron “Mike” Alexandroff\, college president from 1961-1992. Ms. Eidenberg is proud to be a Columbia College alum and is appreciative to Jane Canepa and her students to host Jammin with Jane in partnership with Mom+ Baby this year as the Jam celebrates 25 years. \n\n\n\nOUR MISSION \n\nMom+Baby is focused on making a local and national impact on the well-being of pregnant women\, moms\, and kids through legislation and advocacy. We’re a group of working and stay at home moms who support one another to be their best. Our group encourages women with children ages 0 to 5 to create friendships and support each other through attending monthly in-person events and participating in our online community. \n  \nLEGISLATIVE EFFORTS\n\nMom+Baby sends women down to Springfield and DC to lobby on issues that we\, as a group\, support. We propose legislation\, back existing bills\, and lobby our representatives to make our voices heard. We also sponsor monthly coffee dates with our local legislators to get more women involved in the process. \n\nClick the logo below for tickets
URL:https://catalystranch.com/event/mombaby-women-supporting-women-conference-3/
LOCATION:Catalyst Ranch\,  656 W Randolph St\, Chicago\, IL\, 60661\, United States
CATEGORIES:Networking,Workshop
ATTACH;FMTTYPE=image/png:https://catalystranch.com/wp-content/uploads/2016/10/womensupportingwomen-logo.png
END:VEVENT
END:VCALENDAR